BEGIN:VCALENDAR
VERSION:2.0
PRODID:-//wp-events-plugin.com//7.2.3.1//EN
BEGIN:VEVENT
UID:62@botley-pc.gov.uk
DTSTART:20250909T191500Z
DTEND:20300611T211500Z
DTSTAMP:20250813T132241Z
URL:https://botley-pc.gov.uk/events/meeting-of-the-council/
SUMMARY:Meeting of The Council
DESCRIPTION:
CATEGORIES:Meeting of The Council
END:VEVENT
END:VCALENDAR